BEGIN:VCALENDAR
VERSION:2.0
PRODID:spatie/icalendar-generator
DESCRIPTION:Events from Crossbridge Community Church
X-WR-CALDESC:Events from Crossbridge Community Church
REFRESH-INTERVAL;VALUE=DURATION:PT1440M
X-PUBLISHED-TTL:PT1440M
BEGIN:VTIMEZONE
TZID:America/New_York
BEGIN:STANDARD
DTSTART:20231105T020000Z
TZOFFSETFROM:-0400
TZOFFSETTO:-0500
END:STANDARD
BEGIN:DAYLIGHT
DTSTART:20240310T020000Z
TZOFFSETFROM:-0500
TZOFFSETTO:-0400
END:DAYLIGHT
END:VTIMEZONE
BEGIN:VTIMEZONE
TZID:UTC
BEGIN:STANDARD
DTSTART:20250729T132700Z
TZOFFSETFROM:+0000
TZOFFSETTO:+0000
END:STANDARD
END:VTIMEZONE
BEGIN:VEVENT
UID:10093-336
DTSTAMP:20260425T132700Z
SUMMARY:Sunday School
LOCATION:
ORGANIZER;CN=webmaster@crossbridgeofocean.org:MAILTO:treasurer@crossbridgeo
 focean.org
RRULE:FREQ=WEEKLY;UNTIL=20240519T000000Z
DTSTART;TZID=America/New_York:20240225T093000
DTEND;TZID=America/New_York:20240225T103000
X-ALT-DESC;FMTTYPE=TEXT/HTML:
CATEGORIES:General
URL;VALUE=URI:https://www.crossbridgeofocean.org/mc-events/sunday-school-7/
 ?mc_id=10093
METHOD:PUBLISH
END:VEVENT
END:VCALENDAR