BEGIN:VCALENDAR
VERSION:2.0
PRODID:spatie/icalendar-generator
DESCRIPTION:Events from Crossbridge Community Church
X-WR-CALDESC:Events from Crossbridge Community Church
REFRESH-INTERVAL;VALUE=DURATION:PT1440M
X-PUBLISHED-TTL:PT1440M
BEGIN:VTIMEZONE
TZID:America/New_York
BEGIN:STANDARD
DTSTART:20161106T020000Z
TZOFFSETFROM:-0400
TZOFFSETTO:-0500
END:STANDARD
BEGIN:DAYLIGHT
DTSTART:20170312T020000Z
TZOFFSETFROM:-0500
TZOFFSETTO:-0400
END:DAYLIGHT
END:VTIMEZONE
BEGIN:VTIMEZONE
TZID:UTC
BEGIN:STANDARD
DTSTART:20250729T113920Z
TZOFFSETFROM:+0000
TZOFFSETTO:+0000
END:STANDARD
END:VTIMEZONE
BEGIN:VEVENT
UID:5499-100
DTSTAMP:20260425T113920Z
SUMMARY:Prayer Meeting
LOCATION:
ORGANIZER;CN=webmaster@crossbridgeofocean.org:MAILTO:treasurer@crossbridgeo
 focean.org
RRULE:FREQ=WEEKLY;COUNT=51
DTSTART;TZID=America/New_York:20170215T190000
DTEND;TZID=America/New_York:20170215T200000
X-ALT-DESC;FMTTYPE=TEXT/HTML:
CATEGORIES:General
URL;VALUE=URI:/mc-events/small-groups/?mc_id=5499&amp;vcal=5499
METHOD:PUBLISH
END:VEVENT
END:VCALENDAR