BEGIN:VCALENDAR
VERSION:2.0
PRODID:spatie/icalendar-generator
DESCRIPTION:Events from Crossbridge Community Church
X-WR-CALDESC:Events from Crossbridge Community Church
REFRESH-INTERVAL;VALUE=DURATION:PT1440M
X-PUBLISHED-TTL:PT1440M
BEGIN:VTIMEZONE
TZID:America/New_York
BEGIN:STANDARD
DTSTART:20151101T020000Z
TZOFFSETFROM:-0400
TZOFFSETTO:-0500
END:STANDARD
BEGIN:DAYLIGHT
DTSTART:20160313T020000Z
TZOFFSETFROM:-0500
TZOFFSETTO:-0400
END:DAYLIGHT
END:VTIMEZONE
BEGIN:VTIMEZONE
TZID:UTC
BEGIN:STANDARD
DTSTART:20250730T020437Z
TZOFFSETFROM:+0000
TZOFFSETTO:+0000
END:STANDARD
END:VTIMEZONE
BEGIN:VEVENT
UID:5378-65
DTSTAMP:20260426T020437Z
SUMMARY:Sunday School
LOCATION:
ORGANIZER;CN=webmaster@crossbridgeofocean.org:MAILTO:treasurer@crossbridgeo
 focean.org
RRULE:FREQ=WEEKLY;COUNT=6
DTSTART;TZID=America/New_York:20160424T101500
DTEND;TZID=America/New_York:20160424T111500
X-ALT-DESC;FMTTYPE=TEXT/HTML:
CATEGORIES:General
URL;VALUE=URI:/mc-events/small-groups/?mc_id=5378&amp;vcal=5378
METHOD:PUBLISH
END:VEVENT
END:VCALENDAR