BEGIN:VCALENDAR
VERSION:2.0
PRODID:spatie/icalendar-generator
DESCRIPTION:Events from Crossbridge Community Church
X-WR-CALDESC:Events from Crossbridge Community Church
REFRESH-INTERVAL;VALUE=DURATION:PT1440M
X-PUBLISHED-TTL:PT1440M
BEGIN:VTIMEZONE
TZID:America/New_York
BEGIN:STANDARD
DTSTART:20171105T020000Z
TZOFFSETFROM:-0400
TZOFFSETTO:-0500
END:STANDARD
BEGIN:DAYLIGHT
DTSTART:20180311T020000Z
TZOFFSETFROM:-0500
TZOFFSETTO:-0400
END:DAYLIGHT
END:VTIMEZONE
BEGIN:VTIMEZONE
TZID:UTC
BEGIN:STANDARD
DTSTART:20250729T142920Z
TZOFFSETFROM:+0000
TZOFFSETTO:+0000
END:STANDARD
END:VTIMEZONE
BEGIN:VEVENT
UID:5870-103
DTSTAMP:20260425T142920Z
SUMMARY:Nursing Home Ministry
LOCATION:
ORGANIZER;CN=webmaster@crossbridgeofocean.org:MAILTO:treasurer@crossbridgeo
 focean.org
RRULE:FREQ=MONTHLY;BYDAY=2SU;COUNT=36
DTSTART;TZID=America/New_York:20180408T133000
DTEND;TZID=America/New_York:20180408T140000
X-ALT-DESC;FMTTYPE=TEXT/HTML:
CATEGORIES:General
URL;VALUE=URI:https://www.crossbridgeofocean.org/mc-events/nursing-home-min
 istry-3/?mc_id=5870
METHOD:PUBLISH
END:VEVENT
END:VCALENDAR