BEGIN:VCALENDAR
VERSION:2.0
PRODID:spatie/icalendar-generator
DESCRIPTION:Events from Crossbridge Community Church
X-WR-CALDESC:Events from Crossbridge Community Church
REFRESH-INTERVAL;VALUE=DURATION:PT1440M
X-PUBLISHED-TTL:PT1440M
BEGIN:VTIMEZONE
TZID:America/New_York
BEGIN:STANDARD
DTSTART:20161106T020000Z
TZOFFSETFROM:-0400
TZOFFSETTO:-0500
END:STANDARD
BEGIN:DAYLIGHT
DTSTART:20170312T020000Z
TZOFFSETFROM:-0500
TZOFFSETTO:-0400
END:DAYLIGHT
END:VTIMEZONE
BEGIN:VTIMEZONE
TZID:UTC
BEGIN:STANDARD
DTSTART:20250729T140707Z
TZOFFSETFROM:+0000
TZOFFSETTO:+0000
END:STANDARD
END:VTIMEZONE
BEGIN:VEVENT
UID:5546-102
DTSTAMP:20260425T140707Z
SUMMARY:Leadership Meeting
LOCATION:
ORGANIZER;CN=webmaster@crossbridgeofocean.org:MAILTO:treasurer@crossbridgeo
 focean.org
DTSTART;TZID=America/New_York:20170218T000000
DTEND;TZID=America/New_York:20170218T113000
X-ALT-DESC;FMTTYPE=TEXT/HTML:
CATEGORIES:General
URL;VALUE=URI:https://www.crossbridgeofocean.org/mc-events/leadership-meeti
 ng-13/
METHOD:PUBLISH
END:VEVENT
END:VCALENDAR